BEGIN:VCALENDAR
VERSION:2.0
PRODID:-//Newtrack Live Studio - ECPv4.5.1//NONSGML v1.0//EN
CALSCALE:GREGORIAN
METHOD:PUBLISH
X-WR-CALNAME:Newtrack Live Studio
X-ORIGINAL-URL:http://live.newtrack.fr
X-WR-CALDESC:Events for Newtrack Live Studio
BEGIN:VEVENT
DTSTART;TZID=Europe/Paris:20170614T180000
DTEND;TZID=Europe/Paris:20170614T200000
DTSTAMP:20260421T210520
CREATED:20170612T084957Z
LAST-MODIFIED:20170612T084957Z
UID:711-1497463200-1497470400@live.newtrack.fr
SUMMARY:Tömm
DESCRIPTION:
URL:http://live.newtrack.fr/event/tomm/
LOCATION:Aubervilliers\, 93300\, France
CATEGORIES:djset
ATTACH;FMTTYPE=image/png:http://live.newtrack.fr/wp-content/uploads/2017/06/tomm.png
END:VEVENT
END:VCALENDAR