BEGIN:VCALENDAR
VERSION:2.0
PRODID:-//Newtrack Live Studio - ECPv4.5.1//NONSGML v1.0//EN
CALSCALE:GREGORIAN
METHOD:PUBLISH
X-WR-CALNAME:Newtrack Live Studio
X-ORIGINAL-URL:http://live.newtrack.fr
X-WR-CALDESC:Events for Newtrack Live Studio
BEGIN:VEVENT
DTSTART;TZID=Europe/Paris:20170626T210000
DTEND;TZID=Europe/Paris:20170626T220000
DTSTAMP:20260422T193540
CREATED:20170623T095926Z
LAST-MODIFIED:20170623T095926Z
UID:768-1498510800-1498514400@live.newtrack.fr
SUMMARY:Tomamura & Maurice Martingale
DESCRIPTION:
URL:http://live.newtrack.fr/event/tomamura-maurice-martingale/
LOCATION:Aubervilliers\, 93300\, France
CATEGORIES:live
ATTACH;FMTTYPE=image/png:http://live.newtrack.fr/wp-content/uploads/2017/06/tomamura.png
END:VEVENT
END:VCALENDAR