BEGIN:VCALENDAR
VERSION:2.0
PRODID:-//Newtrack Live Studio - ECPv4.5.1//NONSGML v1.0//EN
CALSCALE:GREGORIAN
METHOD:PUBLISH
X-WR-CALNAME:Newtrack Live Studio
X-ORIGINAL-URL:http://live.newtrack.fr
X-WR-CALDESC:Events for Newtrack Live Studio
BEGIN:VEVENT
DTSTART;TZID=Europe/Paris:20170629T180000
DTEND;TZID=Europe/Paris:20170629T200000
DTSTAMP:20260423T024159
CREATED:20170623T100602Z
LAST-MODIFIED:20170623T100602Z
UID:776-1498759200-1498766400@live.newtrack.fr
SUMMARY:Tell
DESCRIPTION:
URL:http://live.newtrack.fr/event/tell/
LOCATION:Aubervilliers\, 93300\, France
ATTACH;FMTTYPE=image/png:http://live.newtrack.fr/wp-content/uploads/2017/06/tell.png
END:VEVENT
END:VCALENDAR