BEGIN:VCALENDAR
VERSION:2.0
PRODID:-//Newtrack Live Studio - ECPv4.5.1//NONSGML v1.0//EN
CALSCALE:GREGORIAN
METHOD:PUBLISH
X-WR-CALNAME:Newtrack Live Studio
X-ORIGINAL-URL:http://live.newtrack.fr
X-WR-CALDESC:Events for Newtrack Live Studio
BEGIN:VEVENT
DTSTART;TZID=Europe/Paris:20170623T200000
DTEND;TZID=Europe/Paris:20170623T220000
DTSTAMP:20260422T143755
CREATED:20170615T142703Z
LAST-MODIFIED:20170615T142703Z
UID:753-1498248000-1498255200@live.newtrack.fr
SUMMARY:Soucoupe
DESCRIPTION:
URL:http://live.newtrack.fr/event/soucoupe/
LOCATION:Aubervilliers\, 93300\, France
ATTACH;FMTTYPE=image/png:http://live.newtrack.fr/wp-content/uploads/2017/06/soucoupe1.png
END:VEVENT
END:VCALENDAR