BEGIN:VCALENDAR
VERSION:2.0
PRODID:-//Newtrack Live Studio - ECPv4.5.1//NONSGML v1.0//EN
CALSCALE:GREGORIAN
METHOD:PUBLISH
X-WR-CALNAME:Newtrack Live Studio
X-ORIGINAL-URL:http://live.newtrack.fr
X-WR-CALDESC:Events for Newtrack Live Studio
BEGIN:VEVENT
DTSTART;TZID=Europe/Paris:20170629T200000
DTEND;TZID=Europe/Paris:20170629T220000
DTSTAMP:20260423T042838
CREATED:20170623T100704Z
LAST-MODIFIED:20170623T100704Z
UID:778-1498766400-1498773600@live.newtrack.fr
SUMMARY:Pulkone
DESCRIPTION:
URL:http://live.newtrack.fr/event/pulkone/
LOCATION:Aubervilliers\, 93300\, France
CATEGORIES:live
ATTACH;FMTTYPE=image/png:http://live.newtrack.fr/wp-content/uploads/2017/06/pulkone.png
END:VEVENT
END:VCALENDAR