BEGIN:VCALENDAR
VERSION:2.0
PRODID:-//Newtrack Live Studio - ECPv4.5.1//NONSGML v1.0//EN
CALSCALE:GREGORIAN
METHOD:PUBLISH
X-WR-CALNAME:Newtrack Live Studio
X-ORIGINAL-URL:http://live.newtrack.fr
X-WR-CALDESC:Events for Newtrack Live Studio
BEGIN:VEVENT
DTSTART;TZID=Europe/Paris:20170614T200000
DTEND;TZID=Europe/Paris:20170614T220000
DTSTAMP:20260421T224733
CREATED:20170612T085057Z
LAST-MODIFIED:20170612T085057Z
UID:713-1497470400-1497477600@live.newtrack.fr
SUMMARY:Polar
DESCRIPTION:
URL:http://live.newtrack.fr/event/polar/
LOCATION:Aubervilliers\, 93300\, France
CATEGORIES:djset
ATTACH;FMTTYPE=image/png:http://live.newtrack.fr/wp-content/uploads/2017/06/polar.png
END:VEVENT
END:VCALENDAR