BEGIN:VCALENDAR
VERSION:2.0
PRODID:-//Newtrack Live Studio - ECPv4.5.1//NONSGML v1.0//EN
CALSCALE:GREGORIAN
METHOD:PUBLISH
X-WR-CALNAME:Newtrack Live Studio
X-ORIGINAL-URL:http://live.newtrack.fr
X-WR-CALDESC:Events for Newtrack Live Studio
BEGIN:VEVENT
DTSTART;VALUE=DATE:20170711
DTEND;VALUE=DATE:20170711
DTSTAMP:20260423T075041
CREATED:20170708T140211Z
LAST-MODIFIED:20170708T140211Z
UID:847-1499731200-1499817599@live.newtrack.fr
SUMMARY:Otto (Torb)
DESCRIPTION:
URL:http://live.newtrack.fr/event/otto-torb/
ATTACH;FMTTYPE=image/png:http://live.newtrack.fr/wp-content/uploads/2017/07/otto.png
END:VEVENT
END:VCALENDAR