BEGIN:VCALENDAR
VERSION:2.0
PRODID:-//Newtrack Live Studio - ECPv4.5.1//NONSGML v1.0//EN
CALSCALE:GREGORIAN
METHOD:PUBLISH
X-WR-CALNAME:Newtrack Live Studio
X-ORIGINAL-URL:http://live.newtrack.fr
X-WR-CALDESC:Events for Newtrack Live Studio
BEGIN:VEVENT
DTSTART;TZID=Europe/Paris:20170531T200000
DTEND;TZID=Europe/Paris:20170531T220000
DTSTAMP:20260420T162218
CREATED:20170525T171843Z
LAST-MODIFIED:20170525T171843Z
UID:631-1496260800-1496268000@live.newtrack.fr
SUMMARY:Jeff the fool
DESCRIPTION:
URL:http://live.newtrack.fr/event/jeff-the-fool/
LOCATION:Aubervilliers\, 93300\, France
ATTACH;FMTTYPE=image/png:http://live.newtrack.fr/wp-content/uploads/2017/05/jeffthefool.png
END:VEVENT
END:VCALENDAR