BEGIN:VCALENDAR
VERSION:2.0
PRODID:-//Newtrack Live Studio - ECPv4.5.1//NONSGML v1.0//EN
CALSCALE:GREGORIAN
METHOD:PUBLISH
X-WR-CALNAME:Newtrack Live Studio
X-ORIGINAL-URL:http://live.newtrack.fr
X-WR-CALDESC:Events for Newtrack Live Studio
BEGIN:VEVENT
DTSTART;TZID=Europe/Paris:20170613T180000
DTEND;TZID=Europe/Paris:20170613T200000
DTSTAMP:20260421T191424
CREATED:20170612T084829Z
LAST-MODIFIED:20170612T084829Z
UID:701-1497376800-1497384000@live.newtrack.fr
SUMMARY:Garba
DESCRIPTION:
URL:http://live.newtrack.fr/event/garba/
LOCATION:Aubervilliers\, 93300\, France
CATEGORIES:djset
ATTACH;FMTTYPE=image/png:http://live.newtrack.fr/wp-content/uploads/2017/06/garba.png
END:VEVENT
END:VCALENDAR