BEGIN:VCALENDAR
VERSION:2.0
PRODID:-//Newtrack Live Studio - ECPv4.5.1//NONSGML v1.0//EN
CALSCALE:GREGORIAN
METHOD:PUBLISH
X-WR-CALNAME:Newtrack Live Studio
X-ORIGINAL-URL:http://live.newtrack.fr
X-WR-CALDESC:Events for Newtrack Live Studio
BEGIN:VEVENT
DTSTART;TZID=Europe/Paris:20170608T180000
DTEND;TZID=Europe/Paris:20170608T200000
DTSTAMP:20260421T133419
CREATED:20170529T133754Z
LAST-MODIFIED:20170529T133904Z
UID:666-1496944800-1496952000@live.newtrack.fr
SUMMARY:Ekonopolis
DESCRIPTION:
URL:http://live.newtrack.fr/event/ekonopolis/
LOCATION:Aubervilliers\, 93300\, France
CATEGORIES:djset
ATTACH;FMTTYPE=image/png:http://live.newtrack.fr/wp-content/uploads/2017/05/ekonopolis.png
END:VEVENT
END:VCALENDAR