BEGIN:VCALENDAR
VERSION:2.0
PRODID:-//Newtrack Live Studio - ECPv4.5.1//NONSGML v1.0//EN
CALSCALE:GREGORIAN
METHOD:PUBLISH
X-WR-CALNAME:Newtrack Live Studio
X-ORIGINAL-URL:http://live.newtrack.fr
X-WR-CALDESC:Events for Newtrack Live Studio
BEGIN:VEVENT
DTSTART;TZID=Europe/Paris:20170619T193000
DTEND;TZID=Europe/Paris:20170619T220000
DTSTAMP:20260422T080506
CREATED:20170615T141730Z
LAST-MODIFIED:20170615T141858Z
UID:743-1497900600-1497909600@live.newtrack.fr
SUMMARY:Doxall Records
DESCRIPTION:
URL:http://live.newtrack.fr/event/doxall-records/
LOCATION:Aubervilliers\, 93300\, France
CATEGORIES:djset
ATTACH;FMTTYPE=image/png:http://live.newtrack.fr/wp-content/uploads/2017/06/doxall.png
END:VEVENT
END:VCALENDAR