BEGIN:VCALENDAR
VERSION:2.0
PRODID:-//Newtrack Live Studio - ECPv4.5.1//NONSGML v1.0//EN
CALSCALE:GREGORIAN
METHOD:PUBLISH
X-WR-CALNAME:Newtrack Live Studio
X-ORIGINAL-URL:http://live.newtrack.fr
X-WR-CALDESC:Events for Newtrack Live Studio
BEGIN:VEVENT
DTSTART;TZID=Europe/Paris:20170615T180000
DTEND;TZID=Europe/Paris:20170615T200000
DTSTAMP:20260422T002429
CREATED:20170612T085215Z
LAST-MODIFIED:20170612T085215Z
UID:715-1497549600-1497556800@live.newtrack.fr
SUMMARY:Doga
DESCRIPTION:
URL:http://live.newtrack.fr/event/doga/
LOCATION:Aubervilliers\, 93300\, France
CATEGORIES:live
ATTACH;FMTTYPE=image/png:http://live.newtrack.fr/wp-content/uploads/2017/06/doga.png
END:VEVENT
END:VCALENDAR