BEGIN:VCALENDAR
VERSION:2.0
PRODID:-//Newtrack Live Studio - ECPv4.5.1//NONSGML v1.0//EN
CALSCALE:GREGORIAN
METHOD:PUBLISH
X-WR-CALNAME:Newtrack Live Studio
X-ORIGINAL-URL:http://live.newtrack.fr
X-WR-CALDESC:Events for Newtrack Live Studio
BEGIN:VEVENT
DTSTART;TZID=Europe/Paris:20170601T200000
DTEND;TZID=Europe/Paris:20170601T220000
DTSTAMP:20260420T180340
CREATED:20170525T172206Z
LAST-MODIFIED:20170525T172229Z
UID:637-1496347200-1496354400@live.newtrack.fr
SUMMARY:Art Taylor
DESCRIPTION:
URL:http://live.newtrack.fr/event/art-taylor/
LOCATION:Aubervilliers\, 93300\, France
ATTACH;FMTTYPE=image/png:http://live.newtrack.fr/wp-content/uploads/2017/05/arttaylor.png
END:VEVENT
END:VCALENDAR