BEGIN:VCALENDAR
VERSION:2.0
PRODID:-//Newtrack Live Studio - ECPv4.5.1//NONSGML v1.0//EN
CALSCALE:GREGORIAN
METHOD:PUBLISH
X-WR-CALNAME:Newtrack Live Studio
X-ORIGINAL-URL:http://live.newtrack.fr
X-WR-CALDESC:Events for Newtrack Live Studio
BEGIN:VEVENT
DTSTART;VALUE=DATE:20170714
DTEND;VALUE=DATE:20170714
DTSTAMP:20260423T125903
CREATED:20170708T140608Z
LAST-MODIFIED:20170708T140608Z
UID:855-1499990400-1500076799@live.newtrack.fr
SUMMARY:Ark B2b Pit Spector
DESCRIPTION:
URL:http://live.newtrack.fr/event/ark-b2b-pit-spector/
ATTACH;FMTTYPE=image/png:http://live.newtrack.fr/wp-content/uploads/2017/07/pit.png
END:VEVENT
END:VCALENDAR